{
 "currentVersion": 10.71,
 "serviceDescription": "Monitoring Trends in Burn Severity (MTBS) burn severity and extent of large fires for Alaska. See https://mtbs.gov/project-overview for more information. The source downloaded USGS data was converted to integer type by PSU before publishing.",
 "name": "usgs_mtbs_ak/mtbs_AK_1993",
 "description": "Monitoring Trends in Burn Severity (MTBS) burn severity and extent of large fires for Alaska. See https://mtbs.gov/project-overview for more information. The source downloaded USGS data was converted to integer type by PSU before publishing.",
 "extent": {
  "xmin": -3558376.8572880784,
  "ymin": 4789103.260689931,
  "xmax": -2268286.8572880784,
  "ymax": 5928053.260689931,
  "spatialReference": {
   "wkid": 102039,
   "latestWkid": 102039
  }
 },
 "initialExtent": {
  "xmin": -3558376.8572880784,
  "ymin": 4789103.260689931,
  "xmax": -2268286.8572880784,
  "ymax": 5928053.260689931,
  "spatialReference": {
   "wkid": 102039,
   "latestWkid": 102039
  }
 },
 "fullExtent": {
  "xmin": -3558376.8572880784,
  "ymin": 4789103.260689931,
  "xmax": -2268286.8572880784,
  "ymax": 5928053.260689931,
  "spatialReference": {
   "wkid": 102039,
   "latestWkid": 102039
  }
 },
 "pixelSizeX": 30,
 "pixelSizeY": 30,
 "bandCount": 1,
 "pixelType": "U8",
 "minPixelSize": 0,
 "maxPixelSize": 0,
 "copyrightText": "USGS, PSU Geography",
 "serviceDataType": "esriImageServiceDataTypeThematic",
 "minValues": [
  1
 ],
 "maxValues": [
  6
 ],
 "meanValues": [
  2.717330551847961
 ],
 "stdvValues": [
  1.1063370585861667
 ],
 "objectIdField": "",
 "fields": [],
 "capabilities": "Image,Metadata,Mensuration",
 "defaultMosaicMethod": "Center",
 "allowedMosaicMethods": "",
 "sortField": "",
 "sortValue": null,
 "mosaicOperator": "First",
 "defaultCompressionQuality": 75,
 "defaultResamplingMethod": "Nearest",
 "maxImageHeight": 41000,
 "maxImageWidth": 38000,
 "allowRasterFunction": true,
 "rasterFunctionInfos": [
  {
   "name": "None",
   "description": "",
   "help": ""
  }
 ],
 "rasterTypeInfos": [
  {
   "name": "Raster Dataset",
   "description": "Supports all ArcGIS Raster Datasets",
   "help": ""
  }
 ],
 "mensurationCapabilities": "Basic",
 "hasHistograms": true,
 "hasColormap": false,
 "hasRasterAttributeTable": true,
 "minScale": 0,
 "maxScale": 0,
 "exportTilesAllowed": false,
 "hasMultidimensions": false,
 "supportsStatistics": false,
 "supportsAdvancedQueries": false,
 "editFieldsInfo": null,
 "ownershipBasedAccessControlForRasters": null,
 "allowComputeTiePoints": false,
 "useStandardizedQueries": true,
 "advancedQueryCapabilities": {
  "useStandardizedQueries": true,
  "supportsStatistics": false,
  "supportsOrderBy": false,
  "supportsDistinct": false,
  "supportsPagination": false
 },
 "spatialReference": {
  "wkid": 102039,
  "latestWkid": 102039
 }
}
