View In:
ArcGIS JavaScript
ArcGIS Online Map Viewer
ArcGIS Earth
ArcMap
View Footprint In:
ArcGIS Online Map Viewer
Service Description: 500-meter Statsgo integer soil texture class compiled for BAGIS-P
Name: BAGIS_Databin/STATSGO_BAGIS_texture
Description: 500-meter Statsgo integer soil texture class compiled for BAGIS-P
Single Fused Map Cache: false
Extent:
XMin: -2356161.762700001
YMin: 277091.0473999996
XMax: 2258338.237299999
YMax: 3172591.0473999996
Spatial Reference: 102039
(102039)
Initial Extent:
XMin: -2356161.762700001
YMin: 277091.0473999996
XMax: 2258338.237299999
YMax: 3172591.0473999996
Spatial Reference: 102039
(102039)
Full Extent:
XMin: -2356161.762700001
YMin: 277091.0473999996
XMax: 2258338.237299999
YMax: 3172591.0473999996
Spatial Reference: 102039
(102039)
Pixel Size X: 500.0
Pixel Size Y: 500.0
Band Count: 1
Pixel Type: U8
RasterFunction Infos: {"rasterFunctionInfos": [{
"name": "None",
"description": "",
"help": ""
}]}
Mensuration Capabilities: Basic
Has Histograms: true
Has Colormap: false
Has Multi Dimensions : false
Rendering Rule:
Min Scale: 0
Max Scale: 0
Copyright Text: Geography, Portland State University
Service Data Type: esriImageServiceDataTypeGeneric
Min Values: 0
Max Values: 5
Mean Values: 1.9973713791286036
Standard Deviation Values: 0.538467816620151
Object ID Field:
Fields:
None
Default Mosaic Method: Center
Allowed Mosaic Methods:
SortField:
SortValue: null
Mosaic Operator: First
Default Compression Quality: 75
Default Resampling Method: Bilinear
Max Record Count: null
Max Image Height: 4100
Max Image Width: 15000
Max Download Image Count: null
Max Mosaic Image Count: null
Allow Raster Function: true
Allow Compute TiePoints: false
Supports Statistics: false
Supports Advanced Queries: false
Use StandardizedQueries: true
Raster Type Infos:
Name: Raster Dataset
Description: Supports all ArcGIS Raster Datasets
Help:
Has Raster Attribute Table: true
Edit Fields Info: null
Ownership Based AccessControl For Rasters: null
Child Resources:
Info
Raster Attribute Table
Histograms
Key Properties
Legend
MultiDimensionalInfo
rasterFunctionInfos
Supported Operations:
Export Image
Identify
Measure
Compute Histograms
Compute Statistics Histograms
Get Samples
Compute Class Statistics
Query Boundary
Compute Pixel Location