View In:
ArcGIS JavaScript
ArcGIS Online Map Viewer
ArcGIS Earth
ArcMap
View Footprint In:
ArcGIS Online Map Viewer
Service Description: Averaged daily SNOw Data Assimilation System (SNODAS) Snow Water Equivalent (SWE) for February 1st based on 2004 to 2022 data.
Name: DAILY_SWE_NORMALS/daily_swe_normal_feb_01
Description: Averaged daily SNOw Data Assimilation System (SNODAS) Snow Water Equivalent (SWE) for February 1st based on 2004 to 2022 data.
Single Fused Map Cache: false
Extent:
XMin: -2893195.469232523
YMin: 212184.47255996568
XMax: 2925522.9582198076
YMax: 3616822.511659473
Spatial Reference: 102039
(102039)
Initial Extent:
XMin: -2893195.469232523
YMin: 212184.47255996568
XMax: 2925522.9582198076
YMax: 3616822.511659473
Spatial Reference: 102039
(102039)
Full Extent:
XMin: -2893195.469232523
YMin: 212184.47255996568
XMax: 2925522.9582198076
YMax: 3616822.511659473
Spatial Reference: 102039
(102039)
Pixel Size X: 923.1664965020357
Pixel Size Y: 923.1664965020357
Band Count: 1
Pixel Type: F32
RasterFunction Infos: {"rasterFunctionInfos": [{
"name": "None",
"description": "",
"help": ""
}]}
Mensuration Capabilities: Basic
Has Histograms: true
Has Colormap: false
Has Multi Dimensions : false
Rendering Rule:
Min Scale: 0
Max Scale: 0
Copyright Text: https://www.nohrsc.noaa.gov/
Service Data Type: esriImageServiceDataTypeGeneric
Min Values: 0
Max Values: 13782.052734375
Mean Values: 15.680658548501
Standard Deviation Values: 57.836468031021
Object ID Field:
Fields:
None
Default Mosaic Method: Center
Allowed Mosaic Methods:
SortField:
SortValue: null
Mosaic Operator: First
Default Compression Quality: 75
Default Resampling Method: Bilinear
Max Record Count: null
Max Image Height: 4100
Max Image Width: 15000
Max Download Image Count: null
Max Mosaic Image Count: null
Allow Raster Function: true
Allow Compute TiePoints: false
Supports Statistics: false
Supports Advanced Queries: false
Use StandardizedQueries: true
Raster Type Infos:
Name: Raster Dataset
Description: Supports all ArcGIS Raster Datasets
Help:
Has Raster Attribute Table: false
Edit Fields Info: null
Ownership Based AccessControl For Rasters: null
Child Resources:
Info
Histograms
Key Properties
Legend
MultiDimensionalInfo
rasterFunctionInfos
Supported Operations:
Export Image
Identify
Measure
Compute Histograms
Compute Statistics Histograms
Get Samples
Compute Class Statistics
Query Boundary
Compute Pixel Location